{ "extent": { "ymin": 13658358.659355849, "xmin": 1995460, "ymax": 13810713.74995899, "xmax": 2067225.332278328, "spatialReference": { "latestWkid": 2278, "wkid": 102740 } }, "blockWidth": 128, "mosaicOperator": "First", "serviceSourceType": "esriImageServiceSourceTypeDataset", "hasMultidimensions": false, "maxImageWidth": 15000, "meanValues": [5.4934691517849341], "hasColormap": false, "compressionType": "NONE", "defaultCompressionQuality": 75, "maxValues": [39.799999999999997], "hasHistograms": true, "datasetFormat": "FGDBR", "maxImageHeight": 4100, "sortField": "", "bandNames": ["Band_1"], "spatialReference": { "latestWkid": 2278, "wkid": 102740 }, "fullExtent": { "ymin": 13658358.659355849, "xmin": 1995460, "ymax": 13810713.74995899, "xmax": 2067225.332278328, "spatialReference": { "latestWkid": 2278, "wkid": 102740 } }, "bandCount": 1, "rasterFunctionInfos": [{ "help": "", "name": "None", "description": "" }], "supportsStatistics": false, "sortableFields": "", "minValues": [0], "allowRasterFunction": true, "allowComputeTiePoints": false, "serviceDataType": "esriImageServiceDataTypeGeneric", "supportsAdvancedQueries": false, "currentVersion": 12.1, "sortValue": null, "objectIdField": "", "blockHeight": 128, "initialExtent": { "ymin": 13658358.659355849, "xmin": 1995460, "ymax": 13810713.74995899, "xmax": 2067225.332278328, "spatialReference": { "latestWkid": 2278, "wkid": 102740 } }, "pixelSizeX": 4.9996748138726499, "pixelSizeY": 4.9996748138726455, "defaultMosaicMethod": "Center", "name": "Draft_Floodplain/MAS15_Depth_01pct", "allowedMosaicMethods": "", "fields": [], "allowAnalysis": true, "hasRasterAttributeTable": false, "useStandardizedQueries": false, "description": "
Flood depth grids communicate flood water depth for various flood frequency events. The flood depth for a given location is calculated by subtracting the ground elevation value from the water surface elevation; this process is executed for the area within the flood extent for each flood event (e.g. 1% annual chance, 10% annual chance, etc.). For more information, please review the technical and guidance documentation provided by FEMA (<\/SPAN><\/SPAN>www.fema.gov/flood-maps/products-tools<\/SPAN><\/SPAN><\/A>). Please contact the San Antonio River Authority\u2019s (SARA) Watershed Engineering Department for more information regarding their FEMA Risk MAP projects.<\/SPAN><\/SPAN><\/P> Published Jan 2025.<\/SPAN><\/SPAN><\/P><\/DIV><\/DIV><\/DIV>",
"pixelType": "F64",
"meanPixelSize": 1.5239039310762454,
"exportTilesAllowed": false,
"editFieldsInfo": null,
"rasterTypeInfos": [{
"help": "",
"name": "Raster Dataset",
"description": "Supports all ArcGIS Raster Datasets"
}],
"defaultResamplingMethod": "Bilinear",
"itemAccess": false,
"minScale": 0,
"serviceProperties": " Flood depth grids communicate flood water depth for various flood frequency events. The flood depth for a given location is calculated by subtracting the ground elevation value from the water surface elevation; this process is executed for the area within the flood extent for each flood event (e.g. 1% annual chance, 10% annual chance, etc.). For more information, please review the technical and guidance documentation provided by FEMA (<\/SPAN><\/SPAN>www.fema.gov/flood-maps/products-tools<\/SPAN><\/SPAN><\/A>). Please contact the San Antonio River Authority\u2019s (SARA) Watershed Engineering Department for more information regarding their FEMA Risk MAP projects.<\/SPAN><\/SPAN><\/P> Published Jan 2025.<\/SPAN><\/SPAN><\/P><\/DIV><\/DIV><\/DIV>",
"allowCopy": true,
"copyrightText": "Federal Emergency Management Agency and San Antonio River Authority",
"mensurationCapabilities": "Basic",
"ownershipBasedAccessControlForRasters": null
}