View In:
ArcGIS JavaScript
ArcGIS Online Map Viewer
ArcGIS Earth
Service Description: Draft_Floodplain/WSE_DraftFloodplainDepth_01pct_PROD
Name: Draft_Floodplain/WSE_DraftFloodplainDepth_01pct_PROD
Description:
Single Fused Map Cache: false
Extent:
XMin: 1995460.0
YMin: 1.33861E7
XMax: 2557555.0
YMax: 1.385458E7
Spatial Reference: 102740
(2278)
Initial Extent:
XMin: 1995460.0
YMin: 1.33861E7
XMax: 2557555.0
YMax: 1.385458E7
Spatial Reference: 102740
(2278)
Full Extent:
XMin: 1995460.0
YMin: 1.33861E7
XMax: 2557555.0
YMax: 1.385458E7
Spatial Reference: 102740
(2278)
Pixel Size X: 5.0
Pixel Size Y: 5.0
Band Count: 1
Pixel Type: F32
RasterFunction Infos: {"rasterFunctionInfos": [{
"help": "",
"name": "None",
"description": ""
}]}
Mensuration Capabilities: Basic
Inspection Capabilities:
Has Histograms: true
Has Colormap: false
Has Multi Dimensions : false
Rendering Rule:
Min Scale: 0
Max Scale: 0
Copyright Text:
Service Data Type: esriImageServiceDataTypeGeneric
Min Values: 0
Max Values: 192.69999694824219
Mean Values: 4.9646484940010449
Standard Deviation Values: 6.941465130487452
Object ID Field:
Fields:
None
Default Mosaic Method: Center
Allowed Mosaic Methods:
SortField:
SortValue: N/A
Mosaic Operator: First
Default Compression Quality: 75
Default Resampling Method: Bilinear
Max Record Count: null
Max Image Height: 4100
Max Image Width: 15000
Max Download Image Count: null
Max Mosaic Image Count: null
Allow Raster Function: true
Allow Copy: true
Allow Analysis: true
Allow Compute TiePoints: false
Supports Statistics: false
Supports Advanced Queries: false
Use StandardizedQueries: false
Raster Type Infos:
Name: Raster Dataset
Description: Supports all ArcGIS Raster Datasets
Help:
Has Raster Attribute Table: false
Edit Fields Info: N/A
Ownership Based AccessControl For Rasters: N/A
Child Resources:
Info
Histograms
Statistics
Key Properties
Legend
Raster Function Infos
Supported Operations:
Export Image
Identify
Measure
Compute Histograms
Compute Statistics Histograms
Get Samples
Compute Class Statistics
Query Boundary
Compute Pixel Location
Compute Angles
Validate
Project