View In:
ArcGIS JavaScript
ArcGIS Online Map Viewer
ArcGIS Earth
Service Description: riskMap/FEMA_RiskMAP_Pct30yrChance
Name: riskMap/FEMA_RiskMAP_Pct30yrChance
Description:
Single Fused Map Cache: false
Extent:
XMin: 1780235.0
YMin: 1.337618E7
XMax: 2580640.0
YMax: 1.3933485E7
Spatial Reference: 102740
(2278)
Initial Extent:
XMin: 1780235.0
YMin: 1.337618E7
XMax: 2580640.0
YMax: 1.3933485E7
Spatial Reference: 102740
(2278)
Full Extent:
XMin: 1780235.0
YMin: 1.337618E7
XMax: 2580640.0
YMax: 1.3933485E7
Spatial Reference: 102740
(2278)
Pixel Size X: 5.0
Pixel Size Y: 5.0
Band Count: 1
Pixel Type: F32
RasterFunction Infos: {"rasterFunctionInfos": [{
"help": "",
"name": "None",
"description": ""
}]}
Mensuration Capabilities: Basic
Inspection Capabilities:
Has Histograms: true
Has Colormap: false
Has Multi Dimensions : false
Rendering Rule:
Min Scale: 0
Max Scale: 0
Copyright Text:
Service Data Type: esriImageServiceDataTypeGeneric
Min Values: 5.8000001907348633
Max Values: 95.800003051757813
Mean Values: 67.130144912999143
Standard Deviation Values: 35.73324436832457
Object ID Field:
Fields:
None
Default Mosaic Method: Center
Allowed Mosaic Methods:
SortField:
SortValue: N/A
Mosaic Operator: First
Default Compression Quality: 75
Default Resampling Method: Bilinear
Max Record Count: null
Max Image Height: 4100
Max Image Width: 15000
Max Download Image Count: null
Max Mosaic Image Count: null
Allow Raster Function: true
Allow Copy: true
Allow Analysis: true
Allow Compute TiePoints: false
Supports Statistics: false
Supports Advanced Queries: false
Use StandardizedQueries: false
Raster Type Infos:
Name: Raster Dataset
Description: Supports all ArcGIS Raster Datasets
Help:
Has Raster Attribute Table: false
Edit Fields Info: N/A
Ownership Based AccessControl For Rasters: N/A
Child Resources:
Info
Histograms
Statistics
Key Properties
Legend
Raster Function Infos
Supported Operations:
Export Image
Identify
Measure
Compute Histograms
Compute Statistics Histograms
Get Samples
Compute Class Statistics
Query Boundary
Compute Pixel Location
Compute Angles
Validate
Project